BEGIN:VCALENDAR
VERSION:2.0
PRODID:-//The Spectrum Church - ECPv6.15.13.1//NONSGML v1.0//EN
CALSCALE:GREGORIAN
METHOD:PUBLISH
X-ORIGINAL-URL:https://thespectrum.church
X-WR-CALDESC:Events for The Spectrum Church
REFRESH-INTERVAL;VALUE=DURATION:PT1H
X-Robots-Tag:noindex
X-PUBLISHED-TTL:PT1H
BEGIN:VTIMEZONE
TZID:America/Denver
BEGIN:DAYLIGHT
TZOFFSETFROM:-0700
TZOFFSETTO:-0600
TZNAME:MDT
DTSTART:20240310T090000
END:DAYLIGHT
BEGIN:STANDARD
TZOFFSETFROM:-0600
TZOFFSETTO:-0700
TZNAME:MST
DTSTART:20241103T080000
END:STANDARD
BEGIN:DAYLIGHT
TZOFFSETFROM:-0700
TZOFFSETTO:-0600
TZNAME:MDT
DTSTART:20250309T090000
END:DAYLIGHT
BEGIN:STANDARD
TZOFFSETFROM:-0600
TZOFFSETTO:-0700
TZNAME:MST
DTSTART:20251102T080000
END:STANDARD
BEGIN:DAYLIGHT
TZOFFSETFROM:-0700
TZOFFSETTO:-0600
TZNAME:MDT
DTSTART:20260308T090000
END:DAYLIGHT
BEGIN:STANDARD
TZOFFSETFROM:-0600
TZOFFSETTO:-0700
TZNAME:MST
DTSTART:20261101T080000
END:STANDARD
END:VTIMEZONE
BEGIN:VEVENT
DTSTART;TZID=America/Denver:20250914T100000
DTEND;TZID=America/Denver:20250914T100000
DTSTAMP:20260424T213049
CREATED:20250913T051709Z
LAST-MODIFIED:20250913T065419Z
UID:12965-1757844000-1757844000@thespectrum.church
SUMMARY:“Spectrum 11th Church Anniversary.” indicated for Sep 14th
DESCRIPTION:Join us for Spectrum 11th Anniversary on Sep 14st at 10:28PM
URL:https://thespectrum.church/event/spectrum-11th-church-anniversary-indicated-for-sep-14th/
LOCATION:The Spectrum Church\, 1914 Trade Zone boulevard\, San Jose\, CA\, United States
END:VEVENT
END:VCALENDAR