BEGIN:VCALENDAR
VERSION:2.0
PRODID:-//The Spectrum Church - ECPv6.15.13.1//NONSGML v1.0//EN
CALSCALE:GREGORIAN
METHOD:PUBLISH
X-WR-CALNAME:The Spectrum Church
X-ORIGINAL-URL:https://thespectrum.church
X-WR-CALDESC:Events for The Spectrum Church
REFRESH-INTERVAL;VALUE=DURATION:PT1H
X-Robots-Tag:noindex
X-PUBLISHED-TTL:PT1H
BEGIN:VTIMEZONE
TZID:America/Los_Angeles
BEGIN:DAYLIGHT
TZOFFSETFROM:-0800
TZOFFSETTO:-0700
TZNAME:PDT
DTSTART:20230312T100000
END:DAYLIGHT
BEGIN:STANDARD
TZOFFSETFROM:-0700
TZOFFSETTO:-0800
TZNAME:PST
DTSTART:20231105T090000
END:STANDARD
BEGIN:DAYLIGHT
TZOFFSETFROM:-0800
TZOFFSETTO:-0700
TZNAME:PDT
DTSTART:20240310T100000
END:DAYLIGHT
BEGIN:STANDARD
TZOFFSETFROM:-0700
TZOFFSETTO:-0800
TZNAME:PST
DTSTART:20241103T090000
END:STANDARD
BEGIN:DAYLIGHT
TZOFFSETFROM:-0800
TZOFFSETTO:-0700
TZNAME:PDT
DTSTART:20250309T100000
END:DAYLIGHT
BEGIN:STANDARD
TZOFFSETFROM:-0700
TZOFFSETTO:-0800
TZNAME:PST
DTSTART:20251102T090000
END:STANDARD
END:VTIMEZONE
BEGIN:VEVENT
DTSTART;TZID=America/Los_Angeles:20240915T100000
DTEND;TZID=America/Los_Angeles:20240915T123000
DTSTAMP:20260425T174313
CREATED:20240825T071937Z
LAST-MODIFIED:20240825T071937Z
UID:10818-1726394400-1726403400@thespectrum.church
SUMMARY:Spectrum 10th Anniversary
DESCRIPTION:We are thrilled to invite you to the celebration of The Spectrum Church 10th Anniversary!
URL:https://thespectrum.church/event/spectrum-10th-anniversary/
LOCATION:The Spectrum Church\, 1914 Trade Zone boulevard\, San Jose\, CA\, 95131\, United States
END:VEVENT
END:VCALENDAR