BEGIN:VCALENDAR
VERSION:2.0
PRODID:-//The Spectrum Church - ECPv6.15.13.1//NONSGML v1.0//EN
CALSCALE:GREGORIAN
METHOD:PUBLISH
X-WR-CALNAME:The Spectrum Church
X-ORIGINAL-URL:https://thespectrum.church
X-WR-CALDESC:Events for The Spectrum Church
REFRESH-INTERVAL;VALUE=DURATION:PT1H
X-Robots-Tag:noindex
X-PUBLISHED-TTL:PT1H
BEGIN:VTIMEZONE
TZID:America/Denver
BEGIN:DAYLIGHT
TZOFFSETFROM:-0700
TZOFFSETTO:-0600
TZNAME:MDT
DTSTART:20240310T090000
END:DAYLIGHT
BEGIN:STANDARD
TZOFFSETFROM:-0600
TZOFFSETTO:-0700
TZNAME:MST
DTSTART:20241103T080000
END:STANDARD
BEGIN:DAYLIGHT
TZOFFSETFROM:-0700
TZOFFSETTO:-0600
TZNAME:MDT
DTSTART:20250309T090000
END:DAYLIGHT
BEGIN:STANDARD
TZOFFSETFROM:-0600
TZOFFSETTO:-0700
TZNAME:MST
DTSTART:20251102T080000
END:STANDARD
BEGIN:DAYLIGHT
TZOFFSETFROM:-0700
TZOFFSETTO:-0600
TZNAME:MDT
DTSTART:20260308T090000
END:DAYLIGHT
BEGIN:STANDARD
TZOFFSETFROM:-0600
TZOFFSETTO:-0700
TZNAME:MST
DTSTART:20261101T080000
END:STANDARD
END:VTIMEZONE
BEGIN:VTIMEZONE
TZID:America/Los_Angeles
BEGIN:DAYLIGHT
TZOFFSETFROM:-0800
TZOFFSETTO:-0700
TZNAME:PDT
DTSTART:20210314T100000
END:DAYLIGHT
BEGIN:STANDARD
TZOFFSETFROM:-0700
TZOFFSETTO:-0800
TZNAME:PST
DTSTART:20211107T090000
END:STANDARD
BEGIN:DAYLIGHT
TZOFFSETFROM:-0800
TZOFFSETTO:-0700
TZNAME:PDT
DTSTART:20220313T100000
END:DAYLIGHT
BEGIN:STANDARD
TZOFFSETFROM:-0700
TZOFFSETTO:-0800
TZNAME:PST
DTSTART:20221106T090000
END:STANDARD
BEGIN:DAYLIGHT
TZOFFSETFROM:-0800
TZOFFSETTO:-0700
TZNAME:PDT
DTSTART:20230312T100000
END:DAYLIGHT
BEGIN:STANDARD
TZOFFSETFROM:-0700
TZOFFSETTO:-0800
TZNAME:PST
DTSTART:20231105T090000
END:STANDARD
BEGIN:DAYLIGHT
TZOFFSETFROM:-0800
TZOFFSETTO:-0700
TZNAME:PDT
DTSTART:20240310T100000
END:DAYLIGHT
BEGIN:STANDARD
TZOFFSETFROM:-0700
TZOFFSETTO:-0800
TZNAME:PST
DTSTART:20241103T090000
END:STANDARD
BEGIN:DAYLIGHT
TZOFFSETFROM:-0800
TZOFFSETTO:-0700
TZNAME:PDT
DTSTART:20250309T100000
END:DAYLIGHT
BEGIN:STANDARD
TZOFFSETFROM:-0700
TZOFFSETTO:-0800
TZNAME:PST
DTSTART:20251102T090000
END:STANDARD
BEGIN:DAYLIGHT
TZOFFSETFROM:-0800
TZOFFSETTO:-0700
TZNAME:PDT
DTSTART:20260308T100000
END:DAYLIGHT
BEGIN:STANDARD
TZOFFSETFROM:-0700
TZOFFSETTO:-0800
TZNAME:PST
DTSTART:20261101T090000
END:STANDARD
END:VTIMEZONE
BEGIN:VEVENT
DTSTART;TZID=America/Denver:20250914T100000
DTEND;TZID=America/Denver:20250914T100000
DTSTAMP:20260425T052648
CREATED:20250913T051709Z
LAST-MODIFIED:20250913T065419Z
UID:12965-1757844000-1757844000@thespectrum.church
SUMMARY:“Spectrum 11th Church Anniversary.” indicated for Sep 14th
DESCRIPTION:Join us for Spectrum 11th Anniversary on Sep 14st at 10:28PM
URL:https://thespectrum.church/event/spectrum-11th-church-anniversary-indicated-for-sep-14th/
LOCATION:The Spectrum Church\, 1914 Trade Zone boulevard\, San Jose\, CA\, United States
END:VEVENT
BEGIN:VEVENT
DTSTART;TZID=America/Los_Angeles:20241231T223000
DTEND;TZID=America/Los_Angeles:20250101T003000
DTSTAMP:20260425T052648
CREATED:20241231T222106Z
LAST-MODIFIED:20251203T063043Z
UID:12404-1735684200-1735691400@thespectrum.church
SUMMARY:New Year's Eve Service
DESCRIPTION:Join us for New Year’s Eve Service on Dec 31st at 10:30PM
URL:https://thespectrum.church/event/new-years-eve-service-2/
LOCATION:The Spectrum Church\, 1914 Trade Zone boulevard\, San Jose\, CA\, United States
END:VEVENT
BEGIN:VEVENT
DTSTART;TZID=America/Los_Angeles:20240915T100000
DTEND;TZID=America/Los_Angeles:20240915T123000
DTSTAMP:20260425T052648
CREATED:20240825T071937Z
LAST-MODIFIED:20240825T071937Z
UID:10818-1726394400-1726403400@thespectrum.church
SUMMARY:Spectrum 10th Anniversary
DESCRIPTION:We are thrilled to invite you to the celebration of The Spectrum Church 10th Anniversary!
URL:https://thespectrum.church/event/spectrum-10th-anniversary/
LOCATION:The Spectrum Church\, 1914 Trade Zone boulevard\, San Jose\, CA\, 95131\, United States
END:VEVENT
BEGIN:VEVENT
DTSTART;TZID=America/Los_Angeles:20231225T100000
DTEND;TZID=America/Los_Angeles:20231225T130000
DTSTAMP:20260425T052648
CREATED:20230117T200245Z
LAST-MODIFIED:20230117T200245Z
UID:9279-1703498400-1703509200@thespectrum.church
SUMMARY:Christmas Service
DESCRIPTION:
URL:https://thespectrum.church/event/christmas-service/
LOCATION:The Spectrum Church\, 1914 Trade Zone boulevard\, San Jose\, CA\, 95131\, United States
END:VEVENT
BEGIN:VEVENT
DTSTART;TZID=America/Los_Angeles:20231224T100000
DTEND;TZID=America/Los_Angeles:20231224T130000
DTSTAMP:20260425T052648
CREATED:20231218T090355Z
LAST-MODIFIED:20231218T090355Z
UID:10049-1703412000-1703422800@thespectrum.church
SUMMARY:Photos with Santa
DESCRIPTION:
URL:https://thespectrum.church/event/photos-with-santa/
LOCATION:The Spectrum Church\, 1914 Trade Zone boulevard\, San Jose\, CA\, 95131\, United States
END:VEVENT
BEGIN:VEVENT
DTSTART;VALUE=DATE:20230804
DTEND;VALUE=DATE:20230807
DTSTAMP:20260425T052648
CREATED:20230531T163725Z
LAST-MODIFIED:20230531T163725Z
UID:9534-1691107200-1691366399@thespectrum.church
SUMMARY:Retreat
DESCRIPTION:
URL:https://thespectrum.church/event/retreat-2/
LOCATION:Zephyr Point Conference Center\, Box 289\, 660 Hwy 50\, Zephyr Cove\, NV\, 89448\, United States
END:VEVENT
BEGIN:VEVENT
DTSTART;TZID=America/Los_Angeles:20230624T170000
DTEND;TZID=America/Los_Angeles:20230624T190000
DTSTAMP:20260425T052648
CREATED:20230311T082851Z
LAST-MODIFIED:20230311T082851Z
UID:9393-1687626000-1687633200@thespectrum.church
SUMMARY:Love 4 Life
DESCRIPTION:
URL:https://thespectrum.church/event/love-4-life-4/
LOCATION:The Spectrum Church\, 1914 Trade Zone boulevard\, San Jose\, CA\, 95131\, United States
END:VEVENT
BEGIN:VEVENT
DTSTART;VALUE=DATE:20230611
DTEND;VALUE=DATE:20230613
DTSTAMP:20260425T052648
CREATED:20230531T163345Z
LAST-MODIFIED:20230531T163345Z
UID:9532-1686441600-1686614399@thespectrum.church
SUMMARY:VBS - Coding For Christ
DESCRIPTION:
URL:https://thespectrum.church/event/vbs-coding-for-christ/
LOCATION:The Spectrum Church\, 1914 Trade Zone boulevard\, San Jose\, CA\, 95131\, United States
END:VEVENT
BEGIN:VEVENT
DTSTART;TZID=America/Los_Angeles:20230527T170000
DTEND;TZID=America/Los_Angeles:20230527T190000
DTSTAMP:20260425T052648
CREATED:20230311T082812Z
LAST-MODIFIED:20230311T082812Z
UID:9391-1685206800-1685214000@thespectrum.church
SUMMARY:Love 4 Life
DESCRIPTION:
URL:https://thespectrum.church/event/love-4-life-3/
LOCATION:The Spectrum Church\, 1914 Trade Zone boulevard\, San Jose\, CA\, 95131\, United States
END:VEVENT
BEGIN:VEVENT
DTSTART;TZID=America/Los_Angeles:20230429T090000
DTEND;TZID=America/Los_Angeles:20230429T170000
DTSTAMP:20260425T052648
CREATED:20230311T083452Z
LAST-MODIFIED:20230311T083452Z
UID:9399-1682758800-1682787600@thespectrum.church
SUMMARY:Fasting Prayer
DESCRIPTION:
URL:https://thespectrum.church/event/fasting-prayer-2/
LOCATION:The Spectrum Church\, 1914 Trade Zone boulevard\, San Jose\, CA\, 95131\, United States
END:VEVENT
BEGIN:VEVENT
DTSTART;TZID=America/Los_Angeles:20230422T170000
DTEND;TZID=America/Los_Angeles:20230422T190000
DTSTAMP:20260425T052648
CREATED:20230311T082740Z
LAST-MODIFIED:20230311T082740Z
UID:9389-1682182800-1682190000@thespectrum.church
SUMMARY:Love 4 Life
DESCRIPTION:
URL:https://thespectrum.church/event/love-4-life-2/
LOCATION:The Spectrum Church\, 1914 Trade Zone boulevard\, San Jose\, CA\, 95131\, United States
END:VEVENT
BEGIN:VEVENT
DTSTART;TZID=America/Los_Angeles:20230415T160000
DTEND;TZID=America/Los_Angeles:20230415T173000
DTSTAMP:20260425T052648
CREATED:20230311T083103Z
LAST-MODIFIED:20230311T083103Z
UID:9395-1681574400-1681579800@thespectrum.church
SUMMARY:Women's Tea Party
DESCRIPTION:
URL:https://thespectrum.church/event/womens-tea-party/
END:VEVENT
BEGIN:VEVENT
DTSTART;TZID=America/Los_Angeles:20230409T100000
DTEND;TZID=America/Los_Angeles:20230409T120000
DTSTAMP:20260425T052648
CREATED:20230311T083236Z
LAST-MODIFIED:20230311T083236Z
UID:9397-1681034400-1681041600@thespectrum.church
SUMMARY:Easter Sunday Service
DESCRIPTION:
URL:https://thespectrum.church/event/easter-sunday-service/
LOCATION:The Spectrum Church\, 1914 Trade Zone boulevard\, San Jose\, CA\, 95131\, United States
END:VEVENT
BEGIN:VEVENT
DTSTART;TZID=America/Los_Angeles:20230407T190000
DTEND;TZID=America/Los_Angeles:20230407T210000
DTSTAMP:20260425T052648
CREATED:20230312T062854Z
LAST-MODIFIED:20230312T062854Z
UID:9401-1680894000-1680901200@thespectrum.church
SUMMARY:Good Friday Service
DESCRIPTION:
URL:https://thespectrum.church/event/good-friday-service/
END:VEVENT
BEGIN:VEVENT
DTSTART;TZID=America/Los_Angeles:20230326T100000
DTEND;TZID=America/Los_Angeles:20230326T120000
DTSTAMP:20260425T052648
CREATED:20230311T082245Z
LAST-MODIFIED:20230311T082245Z
UID:9383-1679824800-1679832000@thespectrum.church
SUMMARY:Outgoing Elder Felicitation
DESCRIPTION:
URL:https://thespectrum.church/event/outgoing-elder-felicitation/
LOCATION:The Spectrum Church\, 1914 Trade Zone boulevard\, San Jose\, CA\, 95131\, United States
END:VEVENT
BEGIN:VEVENT
DTSTART;TZID=America/Los_Angeles:20230326T100000
DTEND;TZID=America/Los_Angeles:20230326T120000
DTSTAMP:20260425T052648
CREATED:20230311T081856Z
LAST-MODIFIED:20230311T081856Z
UID:9381-1679824800-1679832000@thespectrum.church
SUMMARY:Elder Ordination
DESCRIPTION:
URL:https://thespectrum.church/event/elder-ordination/
LOCATION:The Spectrum Church\, 1914 Trade Zone boulevard\, San Jose\, CA\, 95131\, United States
END:VEVENT
BEGIN:VEVENT
DTSTART;TZID=America/Los_Angeles:20230325T190000
DTEND;TZID=America/Los_Angeles:20230326T090000
DTSTAMP:20260425T052648
CREATED:20230311T082419Z
LAST-MODIFIED:20230311T082419Z
UID:9385-1679770800-1679821200@thespectrum.church
SUMMARY:Voting for Incoming Elder
DESCRIPTION:
URL:https://thespectrum.church/event/voting-for-incoming-elder/
END:VEVENT
BEGIN:VEVENT
DTSTART;TZID=America/Los_Angeles:20230325T170000
DTEND;TZID=America/Los_Angeles:20230325T190000
DTSTAMP:20260425T052648
CREATED:20230311T082704Z
LAST-MODIFIED:20230311T082704Z
UID:9387-1679763600-1679770800@thespectrum.church
SUMMARY:Love 4 Life
DESCRIPTION:Our next meeting in this series will be in the month of March. Childcare will be provided for 10$ per child (3-12yrs).
URL:https://thespectrum.church/event/love-4-life/
LOCATION:The Spectrum Church\, 1914 Trade Zone boulevard\, San Jose\, CA\, 95131\, United States
END:VEVENT
BEGIN:VEVENT
DTSTART;TZID=America/Los_Angeles:20230320T100000
DTEND;TZID=America/Los_Angeles:20230320T120000
DTSTAMP:20260425T052648
CREATED:20230311T081122Z
LAST-MODIFIED:20230311T081122Z
UID:9378-1679306400-1679313600@thespectrum.church
SUMMARY:CC + Spectrum Combined Service
DESCRIPTION:
URL:https://thespectrum.church/event/cc-spectrum-combined-service/
LOCATION:Comunidad Cristiana\, 2371 Ringwood Ave\, San Jose\, CA\, 95131\, United States
END:VEVENT
BEGIN:VEVENT
DTSTART;TZID=America/Los_Angeles:20221231T223000
DTEND;TZID=America/Los_Angeles:20221231T235900
DTSTAMP:20260425T052648
CREATED:20220125T083347Z
LAST-MODIFIED:20220125T083347Z
UID:6729-1672525800-1672531140@thespectrum.church
SUMMARY:New Year's Eve service
DESCRIPTION:
URL:https://thespectrum.church/event/new-years-eve-service/
LOCATION:The Spectrum Church\, 1914 Trade Zone boulevard\, San Jose\, CA\, 95131\, United States
END:VEVENT
BEGIN:VEVENT
DTSTART;TZID=America/Los_Angeles:20221225T100000
DTEND;TZID=America/Los_Angeles:20221225T120000
DTSTAMP:20260425T052648
CREATED:20220125T083054Z
LAST-MODIFIED:20220125T083054Z
UID:6726-1671962400-1671969600@thespectrum.church
SUMMARY:Christmas day service
DESCRIPTION:
URL:https://thespectrum.church/event/christmas-day-service-2022/
LOCATION:The Spectrum Church\, 1914 Trade Zone boulevard\, San Jose\, CA\, 95131\, United States
END:VEVENT
BEGIN:VEVENT
DTSTART;TZID=America/Los_Angeles:20221222T190000
DTEND;TZID=America/Los_Angeles:20221222T200000
DTSTAMP:20260425T052648
CREATED:20221208T195749Z
LAST-MODIFIED:20221208T195749Z
UID:8789-1671735600-1671739200@thespectrum.church
SUMMARY:Christmas in the park
DESCRIPTION:
URL:https://thespectrum.church/event/christmas-in-the-park/
LOCATION:Christmas in the park\, 194 S Market St\, San Jose\, CA\, 95113\, United States
END:VEVENT
BEGIN:VEVENT
DTSTART;TZID=America/Los_Angeles:20220904T100000
DTEND;TZID=America/Los_Angeles:20220904T133000
DTSTAMP:20260425T052648
CREATED:20220831T222501Z
LAST-MODIFIED:20220831T222501Z
UID:8732-1662285600-1662298200@thespectrum.church
SUMMARY:Anniversary Celebration
DESCRIPTION:
URL:https://thespectrum.church/event/anniversary-celebration/
LOCATION:The Spectrum Church\, 1914 Trade Zone boulevard\, San Jose\, CA\, 95131\, United States
END:VEVENT
BEGIN:VEVENT
DTSTART;VALUE=DATE:20220805
DTEND;VALUE=DATE:20220808
DTSTAMP:20260425T052648
CREATED:20220318T100011Z
LAST-MODIFIED:20220318T100011Z
UID:8343-1659657600-1659916799@thespectrum.church
SUMMARY:Retreat
DESCRIPTION:
URL:https://thespectrum.church/event/retreat/
ATTACH;FMTTYPE=image/png:https://thespectrum.church/wp-content/uploads/2022/12/newimg-1.png
END:VEVENT
BEGIN:VEVENT
DTSTART;VALUE=DATE:20220429
DTEND;VALUE=DATE:20220430
DTSTAMP:20260425T052648
CREATED:20220318T100134Z
LAST-MODIFIED:20220318T100134Z
UID:8348-1651190400-1651276799@thespectrum.church
SUMMARY:iSpectra conference
DESCRIPTION:
URL:https://thespectrum.church/event/ispectra-conference/
END:VEVENT
BEGIN:VEVENT
DTSTART;VALUE=DATE:20220417
DTEND;VALUE=DATE:20220418
DTSTAMP:20260425T052648
CREATED:20220125T082806Z
LAST-MODIFIED:20220125T082806Z
UID:6724-1650153600-1650239999@thespectrum.church
SUMMARY:Easter service
DESCRIPTION:
URL:https://thespectrum.church/event/easter-service/
END:VEVENT
BEGIN:VEVENT
DTSTART;VALUE=DATE:20220411
DTEND;VALUE=DATE:20220412
DTSTAMP:20260425T052648
CREATED:20220325T113233Z
LAST-MODIFIED:20220325T113233Z
UID:8565-1649635200-1649721599@thespectrum.church
SUMMARY:Palm Sunday
DESCRIPTION:
URL:https://thespectrum.church/event/palm-sunday/
END:VEVENT
BEGIN:VEVENT
DTSTART;VALUE=DATE:20220402
DTEND;VALUE=DATE:20220403
DTSTAMP:20260425T052648
CREATED:20220325T113151Z
LAST-MODIFIED:20220325T113151Z
UID:8563-1648857600-1648943999@thespectrum.church
SUMMARY:Women meeting
DESCRIPTION:
URL:https://thespectrum.church/event/women-meeting/
END:VEVENT
BEGIN:VEVENT
DTSTART;VALUE=DATE:20220326
DTEND;VALUE=DATE:20220327
DTSTAMP:20260425T052648
CREATED:20220318T100052Z
LAST-MODIFIED:20220318T100052Z
UID:8345-1648252800-1648339199@thespectrum.church
SUMMARY:Fasting prayer
DESCRIPTION:
URL:https://thespectrum.church/event/fasting-prayer/
END:VEVENT
BEGIN:VEVENT
DTSTART;VALUE=DATE:20220302
DTEND;VALUE=DATE:20220303
DTSTAMP:20260425T052648
CREATED:20220425T170057Z
LAST-MODIFIED:20220425T170057Z
UID:8567-1646179200-1646265599@thespectrum.church
SUMMARY:Volunteer day
DESCRIPTION:
URL:https://thespectrum.church/event/volunteer-day/
END:VEVENT
END:VCALENDAR